BEGIN:VCALENDAR
VERSION:2.0
PRODID:-//Co - STEM - ECPv4.5.4//NONSGML v1.0//EN
CALSCALE:GREGORIAN
METHOD:PUBLISH
X-WR-CALNAME:Co - STEM
X-ORIGINAL-URL:http://co-stem.com.au
X-WR-CALDESC:Events for Co - STEM
BEGIN:VEVENT
DTSTART;TZID=Australia/Melbourne:20171002T093000
DTEND;TZID=Australia/Melbourne:20171002T123000
DTSTAMP:20190228T222741
CREATED:20170609T082216Z
LAST-MODIFIED:20170920T222918Z
UID:146-1506936600-1506947400@co-stem.com.au
SUMMARY:Program 2     Be a Cyber Sleuth
DESCRIPTION:3 Days\, 3 Hour Sessions Each Day      October 2rd\, 3th & 4th 2017     9:30am to 12:30pm each day\nThe program will introduce you to information you “reveal” about yourself when you send an email\, take an image\, tweet or post on Facebook. You will discover how to look for metadata and what ways there are to be more secure when posting in social media application such as Twitter and Facebook. \nWe will show how much information about people is available online\, Often\, without their knowledge\, we’ll give you some guidance on avoiding disclosure of unauthorized information. There will also be an opportunity to discuss ethical issues associated with privacy.\nThis course is appropriate for level 6 students and up. (Parents & Guardians welcome)\nTablets or laptop required.
URL:http://co-stem.com.au/event/day-2-introduction-to-coding-and-app-development/
LOCATION:375 Burwood Rd\, Hawthorn\, Victoria\, 3122\, Australia
END:VEVENT
END:VCALENDAR